BEGIN:VCALENDAR
VERSION:2.0
PRODID:Grimmwelt Kassel
BEGIN:VEVENT
UID:69e88eb550e5d
DTSTART:20260604T130000Z
SEQUENCE:0
TRANSP:OPAQUE
STATUS:CONFIRMED
DTEND:20260604T140000Z
URL:https://www.grimmwelt.de/en/calendar/die-grimmwelt-von-a-z-3?date=2026-
 06-04+15%3A00
SUMMARY:Die GRIMMWELT von A-Z
CLASS:PUBLIC
DTSTAMP:20260422T090245Z
END:VEVENT
END:VCALENDAR