BEGIN:VCALENDAR
VERSION:2.0
PRODID:Grimmwelt Kassel
BEGIN:VEVENT
UID:69ec14bd4a3af
DTSTART:20260426T130000Z
SEQUENCE:0
TRANSP:OPAQUE
STATUS:CONFIRMED
DTEND:20260426T140000Z
URL:https://www.grimmwelt.de/en/calendar/die-grimmwelt-von-a-z-3?date=2026-
 04-26+15%3A00
SUMMARY:Die GRIMMWELT von A-Z
CLASS:PUBLIC
DTSTAMP:20260425T011125Z
END:VEVENT
END:VCALENDAR