BEGIN:VCALENDAR
VERSION:2.0
PRODID:Grimmwelt Kassel
BEGIN:VEVENT
UID:69e9099f7dafb
DTSTART:20260613T110000Z
SEQUENCE:0
TRANSP:OPAQUE
DTEND:20260613T130000Z
URL:https://www.grimmwelt.de/de/kalender/vorlese-stunde-mit-den-omas-gegen-
 rechts?date=2026-06-13+13%3A00
SUMMARY:Vorlese-Stunde mit den \"Omas gegen Rechts\" | in der LESEREI
CLASS:PUBLIC
DTSTAMP:20260422T174711Z
END:VEVENT
END:VCALENDAR