BEGIN:VCALENDAR
VERSION:2.0
PRODID:Grimmwelt Kassel
BEGIN:VEVENT
UID:69e906e01690a
DTSTART:20260607T133000Z
SEQUENCE:0
TRANSP:OPAQUE
STATUS:CONFIRMED
DTEND:20260607T143000Z
URL:https://www.grimmwelt.de/de/kalender/unter-den-baeumen-traeumt-das-glue
 ck?date=2026-06-07+15%3A30
SUMMARY:»Unter den Bäumen träumt das Glück« | Grimms Märchenstunde am
  UNESCO-Welterbetag
CLASS:PUBLIC
DTSTAMP:20260422T173528Z
END:VEVENT
END:VCALENDAR