BEGIN:VCALENDAR
VERSION:2.0
PRODID:Grimmwelt Kassel
BEGIN:VEVENT
UID:69e90a0bd98cf
DTSTART:20260607T113000Z
SEQUENCE:0
TRANSP:OPAQUE
STATUS:CONFIRMED
DTEND:20260607T123000Z
URL:https://www.grimmwelt.de/de/kalender/unter-den-baeumen-traeumt-das-glue
 ck?date=2026-06-07+13%3A30
SUMMARY:»Unter den Bäumen träumt das Glück« | Grimms Märchenstunde am
  UNESCO-Welterbetag
CLASS:PUBLIC
DTSTAMP:20260422T174859Z
END:VEVENT
END:VCALENDAR