BEGIN:VCALENDAR
VERSION:2.0
PRODID:Grimmwelt Kassel
BEGIN:VEVENT
UID:69e905fd194d0
DTSTART:20260501T130000Z
SEQUENCE:0
TRANSP:OPAQUE
STATUS:CONFIRMED
DTEND:20260501T140000Z
URL:https://www.grimmwelt.de/de/kalender/die-grimmwelt-von-a-z-3?date=2026-
 05-01+15%3A00
SUMMARY:Die GRIMMWELT von A-Z
CLASS:PUBLIC
DTSTAMP:20260422T173141Z
END:VEVENT
END:VCALENDAR